Package: fgsea Version: 1.28.0 Command: rm -rf fgsea.buildbin-libdir && mkdir fgsea.buildbin-libdir && /Users/biocbuild/BBS/utils/build-universal.sh fgsea_1.28.0.tar.gz /Library/Frameworks/R.framework/Resources/bin/R fgsea.buildbin-libdir StartedAt: 2024-04-16 11:41:34 -0400 (Tue, 16 Apr 2024) EndedAt: 2024-04-16 11:44:18 -0400 (Tue, 16 Apr 2024) EllapsedTime: 164.2 seconds RetCode: 0 Status: OK PackageFile: fgsea_1.28.0.tgz PackageFileSize: 5.526 MiB