Package: fgsea Version: 1.28.0 Command: /home/biocbuild/R/R-4.3.1/bin/R CMD check --install=check:fgsea.install-out.txt --library=/home/biocbuild/R/R-4.3.1/site-library --no-vignettes --timings fgsea_1.28.0.tar.gz StartedAt: 2023-11-02 10:30:18 -0000 (Thu, 02 Nov 2023) EndedAt: 2023-11-02 10:34:32 -0000 (Thu, 02 Nov 2023) EllapsedTime: 254.0 seconds RetCode: 0 Status: OK CheckDir: fgsea.Rcheck Warnings: 0