Package: fgga Version: 1.10.2 Command: rm -rf fgga.buildbin-libdir && mkdir fgga.buildbin-libdir && F:\biocbuild\bbs-3.18-bioc\R\bin\R.exe CMD INSTALL --build --library=fgga.buildbin-libdir fgga_1.10.2.tar.gz StartedAt: 2024-04-16 07:00:39 -0400 (Tue, 16 Apr 2024) EndedAt: 2024-04-16 07:01:00 -0400 (Tue, 16 Apr 2024) EllapsedTime: 21.1 seconds RetCode: 0 Status: OK PackageFile: fgga_1.10.2.zip PackageFileSize: 1.322 MiB