Package: fgga Version: 1.10.2 Command: /Library/Frameworks/R.framework/Resources/bin/R CMD build --keep-empty-dirs --no-resave-data fgga StartedAt: 2024-03-03 16:43:08 -0500 (Sun, 03 Mar 2024) EndedAt: 2024-03-03 16:44:24 -0500 (Sun, 03 Mar 2024) EllapsedTime: 75.9 seconds RetCode: 0 Status: OK PackageFile: fgga_1.10.2.tar.gz PackageFileSize: 1.353 MiB