Package: fgga Version: 1.10.2 Command: rm -rf fgga.buildbin-libdir && mkdir fgga.buildbin-libdir && /Users/biocbuild/BBS/utils/build-universal.sh fgga_1.10.2.tar.gz /Library/Frameworks/R.framework/Resources/bin/R fgga.buildbin-libdir StartedAt: 2024-03-04 00:41:14 -0500 (Mon, 04 Mar 2024) EndedAt: 2024-03-04 00:41:33 -0500 (Mon, 04 Mar 2024) EllapsedTime: 19.1 seconds RetCode: 0 Status: OK PackageFile: fgga_1.10.2.tgz PackageFileSize: 1.364 MiB