Package: fgga Version: 1.10.0 Command: /home/biocbuild/R/R-4.3.1/bin/R CMD build --keep-empty-dirs --no-resave-data fgga StartedAt: 2023-11-02 01:05:10 -0000 (Thu, 02 Nov 2023) EndedAt: 2023-11-02 01:05:38 -0000 (Thu, 02 Nov 2023) EllapsedTime: 28.0 seconds RetCode: 1 Status: ERROR PackageFile: None PackageFileSize: NA