Package: ffpe Version: 1.46.0 Command: chmod a+r ffpe -R && F:\biocbuild\bbs-3.18-bioc\R\bin\R.exe CMD build --keep-empty-dirs --no-resave-data ffpe StartedAt: 2024-04-15 18:28:19 -0400 (Mon, 15 Apr 2024) EndedAt: 2024-04-15 18:29:38 -0400 (Mon, 15 Apr 2024) EllapsedTime: 78.6 seconds RetCode: 0 Status: OK PackageFile: ffpe_1.46.0.tar.gz PackageFileSize: 163.8 KiB