Package: fenr Version: 1.0.6 Command: F:\biocbuild\bbs-3.18-bioc\R\bin\R.exe CMD INSTALL fenr StartedAt: 2024-04-15 16:11:17 -0400 (Mon, 15 Apr 2024) EndedAt: 2024-04-15 16:11:24 -0400 (Mon, 15 Apr 2024) EllapsedTime: 7.0 seconds RetCode: 0 Status: OK