Package: fenr Version: 1.0.5 Command: /home/biocbuild/bbs-3.18-bioc/R/bin/R CMD check --install=check:fenr.install-out.txt --library=/home/biocbuild/bbs-3.18-bioc/R/site-library --timings fenr_1.0.5.tar.gz StartedAt: 2024-04-10 22:42:16 -0400 (Wed, 10 Apr 2024) EndedAt: 2024-04-10 22:46:53 -0400 (Wed, 10 Apr 2024) EllapsedTime: 277.5 seconds RetCode: 1 Status: ERROR CheckDir: fenr.Rcheck Warnings: NA