Package: fenr Version: 1.0.6 Command: /home/biocbuild/bbs-3.18-bioc/R/bin/R CMD build --keep-empty-dirs --no-resave-data fenr StartedAt: 2024-04-15 17:04:56 -0400 (Mon, 15 Apr 2024) EndedAt: 2024-04-15 17:05:33 -0400 (Mon, 15 Apr 2024) EllapsedTime: 36.6 seconds RetCode: 1 Status: ERROR PackageFile: None PackageFileSize: NA