Package: fenr Version: 1.0.5 Command: /Library/Frameworks/R.framework/Resources/bin/R CMD check --install=check:fenr.install-out.txt --library=/Library/Frameworks/R.framework/Resources/library --no-vignettes --timings fenr_1.0.5.tar.gz StartedAt: 2024-04-11 02:44:11 -0400 (Thu, 11 Apr 2024) EndedAt: 2024-04-11 02:51:51 -0400 (Thu, 11 Apr 2024) EllapsedTime: 459.4 seconds RetCode: 0 Status: OK CheckDir: fenr.Rcheck Warnings: 0