Package: fenr Version: 1.0.6 Command: /Library/Frameworks/R.framework/Resources/bin/R CMD build --keep-empty-dirs --no-resave-data fenr StartedAt: 2024-04-15 18:41:22 -0400 (Mon, 15 Apr 2024) EndedAt: 2024-04-15 18:43:00 -0400 (Mon, 15 Apr 2024) EllapsedTime: 98.4 seconds RetCode: 1 Status: ERROR PackageFile: None PackageFileSize: NA