Package: fenr Version: 1.0.5 Command: /Library/Frameworks/R.framework/Resources/bin/R CMD INSTALL fenr StartedAt: 2024-03-03 15:24:17 -0500 (Sun, 03 Mar 2024) EndedAt: 2024-03-03 15:24:26 -0500 (Sun, 03 Mar 2024) EllapsedTime: 9.4 seconds RetCode: 0 Status: OK