Package: fenr Version: 1.0.5 Command: /Library/Frameworks/R.framework/Resources/bin/R CMD build --keep-empty-dirs --no-resave-data fenr StartedAt: 2024-03-03 16:42:58 -0500 (Sun, 03 Mar 2024) EndedAt: 2024-03-03 16:44:41 -0500 (Sun, 03 Mar 2024) EllapsedTime: 102.9 seconds RetCode: 0 Status: OK PackageFile: fenr_1.0.5.tar.gz PackageFileSize: 1.037 MiB