Package: fenr Version: 1.0.0 Command: /home/biocbuild/R/R-4.3.1/bin/R CMD INSTALL fenr StartedAt: 2023-11-01 20:34:19 -0000 (Wed, 01 Nov 2023) EndedAt: 2023-11-01 20:34:23 -0000 (Wed, 01 Nov 2023) EllapsedTime: 3.9 seconds RetCode: 0 Status: OK