Package: fenr Version: 1.0.0 Command: /home/biocbuild/R/R-4.3.1/bin/R CMD build --keep-empty-dirs --no-resave-data fenr StartedAt: 2023-11-02 01:04:32 -0000 (Thu, 02 Nov 2023) EndedAt: 2023-11-02 01:06:25 -0000 (Thu, 02 Nov 2023) EllapsedTime: 112.1 seconds RetCode: 0 Status: OK PackageFile: fenr_1.0.0.tar.gz PackageFileSize: 1.101 MiB