Package: fedup Version: 1.10.0 Command: /Library/Frameworks/R.framework/Resources/bin/R CMD INSTALL fedup StartedAt: 2024-04-15 16:30:58 -0400 (Mon, 15 Apr 2024) EndedAt: 2024-04-15 16:31:15 -0400 (Mon, 15 Apr 2024) EllapsedTime: 17.3 seconds RetCode: 0 Status: OK