Package: fedup Version: 1.10.0 Command: /Library/Frameworks/R.framework/Resources/bin/R CMD check --install=check:fedup.install-out.txt --library=/Library/Frameworks/R.framework/Resources/library --no-vignettes --timings fedup_1.10.0.tar.gz StartedAt: 2024-04-16 02:47:29 -0400 (Tue, 16 Apr 2024) EndedAt: 2024-04-16 02:54:25 -0400 (Tue, 16 Apr 2024) EllapsedTime: 416.1 seconds RetCode: 0 Status: OK CheckDir: fedup.Rcheck Warnings: 0