Package: fdrame Version: 1.74.0 Command: rm -rf fdrame.buildbin-libdir && mkdir fdrame.buildbin-libdir && /Users/biocbuild/BBS/utils/build-universal.sh fdrame_1.74.0.tar.gz /Library/Frameworks/R.framework/Resources/bin/R fdrame.buildbin-libdir StartedAt: 2024-03-04 00:41:09 -0500 (Mon, 04 Mar 2024) EndedAt: 2024-03-04 00:41:17 -0500 (Mon, 04 Mar 2024) EllapsedTime: 7.9 seconds RetCode: 0 Status: OK PackageFile: fdrame_1.74.0.tgz PackageFileSize: 1.002 MiB