Package: fdrame Version: 1.74.0 Command: /home/biocbuild/R/R-4.3.1/bin/R CMD check --install=check:fdrame.install-out.txt --library=/home/biocbuild/R/R-4.3.1/site-library --no-vignettes --timings fdrame_1.74.0.tar.gz StartedAt: 2023-11-02 10:28:40 -0000 (Thu, 02 Nov 2023) EndedAt: 2023-11-02 10:29:00 -0000 (Thu, 02 Nov 2023) EllapsedTime: 20.0 seconds RetCode: 0 Status: OK CheckDir: fdrame.Rcheck Warnings: 0