Package: fcoex Version: 1.16.0 Command: /Library/Frameworks/R.framework/Resources/bin/R CMD INSTALL fcoex StartedAt: 2024-04-15 16:22:33 -0400 (Mon, 15 Apr 2024) EndedAt: 2024-04-15 16:24:20 -0400 (Mon, 15 Apr 2024) EllapsedTime: 107.1 seconds RetCode: 0 Status: OK