Package: fcScan Version: 1.16.0 Command: F:\biocbuild\bbs-3.18-bioc\R\bin\R.exe CMD INSTALL fcScan StartedAt: 2024-04-15 16:06:13 -0400 (Mon, 15 Apr 2024) EndedAt: 2024-04-15 16:07:08 -0400 (Mon, 15 Apr 2024) EllapsedTime: 54.6 seconds RetCode: 0 Status: OK