Package: fcScan Version: 1.16.0 Command: rm -rf fcScan.buildbin-libdir && mkdir fcScan.buildbin-libdir && F:\biocbuild\bbs-3.18-bioc\R\bin\R.exe CMD INSTALL --build --library=fcScan.buildbin-libdir fcScan_1.16.0.tar.gz StartedAt: 2024-04-16 07:00:26 -0400 (Tue, 16 Apr 2024) EndedAt: 2024-04-16 07:01:28 -0400 (Tue, 16 Apr 2024) EllapsedTime: 62.4 seconds RetCode: 0 Status: OK PackageFile: fcScan_1.16.0.zip PackageFileSize: 277.9 KiB