Package: fastLiquidAssociation Version: 1.38.0 Command: /Library/Frameworks/R.framework/Resources/bin/R CMD build --keep-empty-dirs --no-resave-data fastLiquidAssociation StartedAt: 2024-04-15 18:39:36 -0400 (Mon, 15 Apr 2024) EndedAt: 2024-04-15 18:42:27 -0400 (Mon, 15 Apr 2024) EllapsedTime: 170.8 seconds RetCode: 0 Status: OK PackageFile: fastLiquidAssociation_1.38.0.tar.gz PackageFileSize: 750.3 KiB