Package: fastLiquidAssociation Version: 1.38.0 Command: /Library/Frameworks/R.framework/Resources/bin/R CMD INSTALL fastLiquidAssociation StartedAt: 2024-03-03 15:31:17 -0500 (Sun, 03 Mar 2024) EndedAt: 2024-03-03 15:31:46 -0500 (Sun, 03 Mar 2024) EllapsedTime: 29.4 seconds RetCode: 0 Status: OK