Package: fastLiquidAssociation Version: 1.38.0 Command: /home/biocbuild/R/R-4.3.1/bin/R CMD check --install=check:fastLiquidAssociation.install-out.txt --library=/home/biocbuild/R/R-4.3.1/site-library --no-vignettes --timings fastLiquidAssociation_1.38.0.tar.gz StartedAt: 2023-11-02 10:27:25 -0000 (Thu, 02 Nov 2023) EndedAt: 2023-11-02 10:31:18 -0000 (Thu, 02 Nov 2023) EllapsedTime: 232.9 seconds RetCode: 0 Status: WARNINGS CheckDir: fastLiquidAssociation.Rcheck Warnings: 1