Package: fastLiquidAssociation Version: 1.38.0 Command: /home/biocbuild/R/R-4.3.1/bin/R CMD build --keep-empty-dirs --no-resave-data fastLiquidAssociation StartedAt: 2023-11-02 01:01:04 -0000 (Thu, 02 Nov 2023) EndedAt: 2023-11-02 01:02:32 -0000 (Thu, 02 Nov 2023) EllapsedTime: 88.1 seconds RetCode: 0 Status: OK PackageFile: fastLiquidAssociation_1.38.0.tar.gz PackageFileSize: 735 KiB