Package: farms Version: 1.54.0 Command: /Library/Frameworks/R.framework/Resources/bin/R CMD INSTALL farms StartedAt: 2024-04-15 15:07:29 -0400 (Mon, 15 Apr 2024) EndedAt: 2024-04-15 15:07:58 -0400 (Mon, 15 Apr 2024) EllapsedTime: 29.2 seconds RetCode: 0 Status: OK