Package: farms Version: 1.54.0 Command: /Library/Frameworks/R.framework/Resources/bin/R CMD build --keep-empty-dirs --no-resave-data farms StartedAt: 2024-03-03 16:42:15 -0500 (Sun, 03 Mar 2024) EndedAt: 2024-03-03 16:43:43 -0500 (Sun, 03 Mar 2024) EllapsedTime: 88.2 seconds RetCode: 0 Status: OK PackageFile: farms_1.54.0.tar.gz PackageFileSize: 332.7 KiB