Package: farms Version: 1.54.0 Command: rm -rf farms.buildbin-libdir && mkdir farms.buildbin-libdir && /Users/biocbuild/BBS/utils/build-universal.sh farms_1.54.0.tar.gz /Library/Frameworks/R.framework/Resources/bin/R farms.buildbin-libdir StartedAt: 2024-03-04 00:41:03 -0500 (Mon, 04 Mar 2024) EndedAt: 2024-03-04 00:41:09 -0500 (Mon, 04 Mar 2024) EllapsedTime: 6.9 seconds RetCode: 0 Status: OK PackageFile: farms_1.54.0.tgz PackageFileSize: 318.1 KiB