Package: farms Version: 1.54.0 Command: /home/biocbuild/R/R-4.3.1/bin/R CMD INSTALL farms StartedAt: 2023-11-01 20:06:54 -0000 (Wed, 01 Nov 2023) EndedAt: 2023-11-01 20:07:02 -0000 (Wed, 01 Nov 2023) EllapsedTime: 8.9 seconds RetCode: 0 Status: OK