Package: farms Version: 1.54.0 Command: /home/biocbuild/R/R-4.3.1/bin/R CMD build --keep-empty-dirs --no-resave-data farms StartedAt: 2023-11-02 01:00:53 -0000 (Thu, 02 Nov 2023) EndedAt: 2023-11-02 01:02:16 -0000 (Thu, 02 Nov 2023) EllapsedTime: 83.1 seconds RetCode: 0 Status: OK PackageFile: farms_1.54.0.tar.gz PackageFileSize: 321.6 KiB