Package: famat Version: 1.12.0 Command: /home/biocbuild/R/R-4.3.1/bin/R CMD check --install=check:famat.install-out.txt --library=/home/biocbuild/R/R-4.3.1/site-library --no-vignettes --timings famat_1.12.0.tar.gz StartedAt: 2023-11-02 10:27:15 -0000 (Thu, 02 Nov 2023) EndedAt: 2023-11-02 10:33:04 -0000 (Thu, 02 Nov 2023) EllapsedTime: 349.1 seconds RetCode: 1 Status: ERROR CheckDir: famat.Rcheck Warnings: NA