Package: factR Version: 1.4.0 Command: rm -rf factR.buildbin-libdir && mkdir factR.buildbin-libdir && F:\biocbuild\bbs-3.18-bioc\R\bin\R.exe CMD INSTALL --build --library=factR.buildbin-libdir factR_1.4.0.tar.gz StartedAt: 2024-04-16 07:00:05 -0400 (Tue, 16 Apr 2024) EndedAt: 2024-04-16 07:00:22 -0400 (Tue, 16 Apr 2024) EllapsedTime: 17.1 seconds RetCode: 0 Status: OK PackageFile: factR_1.4.0.zip PackageFileSize: 1.464 MiB