Package: factR Version: 1.4.0 Command: /home/biocbuild/bbs-3.18-bioc/R/bin/R CMD INSTALL factR StartedAt: 2024-04-15 15:25:03 -0400 (Mon, 15 Apr 2024) EndedAt: 2024-04-15 15:25:12 -0400 (Mon, 15 Apr 2024) EllapsedTime: 8.6 seconds RetCode: 0 Status: OK