Package: factR Version: 1.4.0 Command: /Library/Frameworks/R.framework/Resources/bin/R CMD INSTALL factR StartedAt: 2024-04-15 15:44:31 -0400 (Mon, 15 Apr 2024) EndedAt: 2024-04-15 15:44:52 -0400 (Mon, 15 Apr 2024) EllapsedTime: 21.4 seconds RetCode: 0 Status: OK