Package: factR Version: 1.4.0 Command: /Library/Frameworks/R.framework/Resources/bin/R CMD build --keep-empty-dirs --no-resave-data factR StartedAt: 2024-04-15 18:39:11 -0400 (Mon, 15 Apr 2024) EndedAt: 2024-04-15 18:44:14 -0400 (Mon, 15 Apr 2024) EllapsedTime: 302.5 seconds RetCode: 0 Status: OK PackageFile: factR_1.4.0.tar.gz PackageFileSize: 1.838 MiB