Package: factR Version: 1.4.0 Command: /Library/Frameworks/R.framework/Resources/bin/R CMD build --keep-empty-dirs --no-resave-data factR StartedAt: 2024-03-03 16:42:09 -0500 (Sun, 03 Mar 2024) EndedAt: 2024-03-03 16:45:37 -0500 (Sun, 03 Mar 2024) EllapsedTime: 208.0 seconds RetCode: 0 Status: OK PackageFile: factR_1.4.0.tar.gz PackageFileSize: 1.704 MiB