Package: factDesign Version: 1.78.0 Command: /home/biocbuild/bbs-3.18-bioc/R/bin/R CMD build --keep-empty-dirs --no-resave-data factDesign StartedAt: 2024-04-15 17:03:20 -0400 (Mon, 15 Apr 2024) EndedAt: 2024-04-15 17:03:28 -0400 (Mon, 15 Apr 2024) EllapsedTime: 8.0 seconds RetCode: 0 Status: OK PackageFile: factDesign_1.78.0.tar.gz PackageFileSize: 217.1 KiB