Package: factDesign Version: 1.78.0 Command: /home/biocbuild/R/R-4.3.1/bin/R CMD build --keep-empty-dirs --no-resave-data factDesign StartedAt: 2023-11-02 01:00:43 -0000 (Thu, 02 Nov 2023) EndedAt: 2023-11-02 01:00:53 -0000 (Thu, 02 Nov 2023) EllapsedTime: 10.0 seconds RetCode: 0 Status: OK PackageFile: factDesign_1.78.0.tar.gz PackageFileSize: 209.5 KiB