Package: fabia Version: 2.48.0 Command: /home/biocbuild/R/R-4.3.1/bin/R CMD check --install=check:fabia.install-out.txt --library=/home/biocbuild/R/R-4.3.1/site-library --no-vignettes --timings fabia_2.48.0.tar.gz StartedAt: 2023-11-02 10:26:39 -0000 (Thu, 02 Nov 2023) EndedAt: 2023-11-02 10:27:25 -0000 (Thu, 02 Nov 2023) EllapsedTime: 46.1 seconds RetCode: 0 Status: WARNINGS CheckDir: fabia.Rcheck Warnings: 2