Package: exomePeak2 Version: 1.14.3 Command: chmod a+r exomePeak2 -R && F:\biocbuild\bbs-3.18-bioc\R\bin\R.exe CMD build --keep-empty-dirs --no-resave-data exomePeak2 StartedAt: 2024-04-15 18:22:59 -0400 (Mon, 15 Apr 2024) EndedAt: 2024-04-15 18:24:30 -0400 (Mon, 15 Apr 2024) EllapsedTime: 91.1 seconds RetCode: 0 Status: OK PackageFile: exomePeak2_1.14.3.tar.gz PackageFileSize: 2.274 MiB