Package: exomePeak2 Version: 1.14.3 Command: /home/biocbuild/bbs-3.18-bioc/R/bin/R CMD INSTALL exomePeak2 StartedAt: 2024-04-15 15:28:08 -0400 (Mon, 15 Apr 2024) EndedAt: 2024-04-15 15:28:50 -0400 (Mon, 15 Apr 2024) EllapsedTime: 41.5 seconds RetCode: 0 Status: OK