Package: exomePeak2 Version: 1.14.3 Command: /Library/Frameworks/R.framework/Resources/bin/R CMD INSTALL exomePeak2 StartedAt: 2024-04-15 15:51:11 -0400 (Mon, 15 Apr 2024) EndedAt: 2024-04-15 15:52:35 -0400 (Mon, 15 Apr 2024) EllapsedTime: 84.1 seconds RetCode: 0 Status: OK