Package: exomePeak2 Version: 1.14.3 Command: /Library/Frameworks/R.framework/Resources/bin/R CMD build --keep-empty-dirs --no-resave-data exomePeak2 StartedAt: 2024-04-15 18:37:38 -0400 (Mon, 15 Apr 2024) EndedAt: 2024-04-15 18:40:51 -0400 (Mon, 15 Apr 2024) EllapsedTime: 192.1 seconds RetCode: 0 Status: OK PackageFile: exomePeak2_1.14.3.tar.gz PackageFileSize: 2.274 MiB