Package: exomePeak2 Version: 1.14.3 Command: rm -rf exomePeak2.buildbin-libdir && mkdir exomePeak2.buildbin-libdir && /Users/biocbuild/BBS/utils/build-universal.sh exomePeak2_1.14.3.tar.gz /Library/Frameworks/R.framework/Resources/bin/R exomePeak2.buildbin-libdir StartedAt: 2024-04-16 11:39:42 -0400 (Tue, 16 Apr 2024) EndedAt: 2024-04-16 11:42:10 -0400 (Tue, 16 Apr 2024) EllapsedTime: 148.1 seconds RetCode: 0 Status: OK PackageFile: exomePeak2_1.14.3.tgz PackageFileSize: 2.338 MiB