Package: exomePeak2 Version: 1.14.3 Command: /Library/Frameworks/R.framework/Resources/bin/R CMD INSTALL exomePeak2 StartedAt: 2024-03-03 15:19:37 -0500 (Sun, 03 Mar 2024) EndedAt: 2024-03-03 15:20:35 -0500 (Sun, 03 Mar 2024) EllapsedTime: 57.3 seconds RetCode: 0 Status: OK