Package: exomePeak2 Version: 1.14.0 Command: /home/biocbuild/R/R-4.3.1/bin/R CMD check --install=check:exomePeak2.install-out.txt --library=/home/biocbuild/R/R-4.3.1/site-library --no-vignettes --timings exomePeak2_1.14.0.tar.gz StartedAt: 2023-11-02 10:24:25 -0000 (Thu, 02 Nov 2023) EndedAt: 2023-11-02 10:30:18 -0000 (Thu, 02 Nov 2023) EllapsedTime: 353.2 seconds RetCode: 1 Status: ERROR CheckDir: exomePeak2.Rcheck Warnings: NA