Package: exomePeak2 Version: 1.14.0 Command: /home/biocbuild/R/R-4.3.1/bin/R CMD build --keep-empty-dirs --no-resave-data exomePeak2 StartedAt: 2023-11-02 00:59:02 -0000 (Thu, 02 Nov 2023) EndedAt: 2023-11-02 01:01:04 -0000 (Thu, 02 Nov 2023) EllapsedTime: 122.2 seconds RetCode: 0 Status: OK PackageFile: exomePeak2_1.14.0.tar.gz PackageFileSize: 2.299 MiB