Package: exomeCopy Version: 1.48.0 Command: /Library/Frameworks/R.framework/Resources/bin/R CMD check --install=check:exomeCopy.install-out.txt --library=/Library/Frameworks/R.framework/Resources/library --no-vignettes --timings exomeCopy_1.48.0.tar.gz StartedAt: 2024-04-16 02:41:22 -0400 (Tue, 16 Apr 2024) EndedAt: 2024-04-16 02:45:10 -0400 (Tue, 16 Apr 2024) EllapsedTime: 228.3 seconds RetCode: 0 Status: WARNINGS CheckDir: exomeCopy.Rcheck Warnings: 1